BEGIN:VCALENDAR
VERSION:2.0
PRODID:-//wirdwas.fyi - ECPv6.15.20//NONSGML v1.0//EN
CALSCALE:GREGORIAN
METHOD:PUBLISH
X-ORIGINAL-URL:https://wirdwas.fyi
X-WR-CALDESC:Veranstaltungen für wirdwas.fyi
REFRESH-INTERVAL;VALUE=DURATION:PT1H
X-Robots-Tag:noindex
X-PUBLISHED-TTL:PT1H
BEGIN:VTIMEZONE
TZID:Europe/Berlin
BEGIN:DAYLIGHT
TZOFFSETFROM:+0100
TZOFFSETTO:+0200
TZNAME:CEST
DTSTART:20250330T010000
END:DAYLIGHT
BEGIN:STANDARD
TZOFFSETFROM:+0200
TZOFFSETTO:+0100
TZNAME:CET
DTSTART:20251026T010000
END:STANDARD
BEGIN:DAYLIGHT
TZOFFSETFROM:+0100
TZOFFSETTO:+0200
TZNAME:CEST
DTSTART:20260329T010000
END:DAYLIGHT
BEGIN:STANDARD
TZOFFSETFROM:+0200
TZOFFSETTO:+0100
TZNAME:CET
DTSTART:20261025T010000
END:STANDARD
BEGIN:DAYLIGHT
TZOFFSETFROM:+0100
TZOFFSETTO:+0200
TZNAME:CEST
DTSTART:20270328T010000
END:DAYLIGHT
BEGIN:STANDARD
TZOFFSETFROM:+0200
TZOFFSETTO:+0100
TZNAME:CET
DTSTART:20271031T010000
END:STANDARD
END:VTIMEZONE
BEGIN:VEVENT
DTSTART;VALUE=DATE:20260420
DTEND;VALUE=DATE:20260506
DTSTAMP:20260424T130403
CREATED:20260226T134756Z
LAST-MODIFIED:20260226T134756Z
UID:5741-1776643200-1778025599@wirdwas.fyi
SUMMARY:Kompass - Dein Kurs in die Zukunft
DESCRIPTION:Fühlst du dich unsicher wegen befristeter Verträge\, unzufrieden im Job oder passt dein Arbeitsumfeld nicht zu deinen Werten? Die Arbeitswelt wandelt sich rasant und viele junge Erwachsene stehen vor immensen Herausforderungen. Unser Coaching-Programm „Kompass“ bietet dir die nötige Orientierung und Unterstützung. \nIn zwei Gruppencoaching-Terminen entdeckst du deine Stärken und Werte\, entwickelst eine klare berufliche Vision und lernst\, Unsicherheiten zu überwinden. Wir nutzen bewährte Methoden wie systemisches Coaching und Design Thinking\, um dir praktische Schritte für deine Zukunftsgestaltung zu vermitteln. Optional kannst du zusätzlich individuelle Einzelcoachings buchen\, für noch tiefere persönliche Entwicklung. \nZiel ist es\, dich zu befähigen\, eine selbstbestimmte und erfüllende berufliche Zukunft zu gestalten. Nach dem Coaching wirst du Klarheit über deine Ziele haben\, einen konkreten Aktionsplan besitzen und selbstbewusst deinen eigenen Weg gehen. Investiere in deine Zukunft und melde dich an! \n  \nMehr Infos und Anmeldung: https://www.dit-rt.de/events/kompass/
URL:https://wirdwas.fyi/event/kompass-dein-kurs-in-die-zukunft/
CATEGORIES:Workshop
ATTACH;FMTTYPE=image/png:https://wirdwas.fyi/wp-content/uploads/2026/02/Kompass-keb.png
END:VEVENT
BEGIN:VEVENT
DTSTART;TZID=Europe/Berlin:20260425T100000
DTEND;TZID=Europe/Berlin:20260425T170000
DTSTAMP:20260424T130403
CREATED:20260312T133241Z
LAST-MODIFIED:20260312T133241Z
UID:5773-1777111200-1777136400@wirdwas.fyi
SUMMARY:Qualifikation Festivalseelsorge
DESCRIPTION:Qualifizierung im Modul “Festivalseelsorger*in”\nSamstag\, 25. April von 10-17 Uhr\, Jugendreferat Stuttgart  | Anmeldeschluss: 4. April 2026 \nIn diesem Modul liegt der Fokus auf dem Setting des Festival: wie man dort gute\, hilfreiche Gespräche führen und für Menschen da sein kann. Außerdem wird es am Nachmittag für bereits erfahrene ehrenamtliche Festivalseelsorgende die Möglichkeit geben sich zu vernetzen\, Gesprächsführung-Skills aufzufrischen und Erfahrungen zu reflektieren. \n\nMelde dich einfach an mit Name\, Kontaktdaten\, Alter\, kurzem Motivationsgrund für die Festivalseelsorge per Mail an festivalseelsorge@bdkj.info. Zwei bis drei Wochen vor dem Termin erhältst du nochmal eine Einladung mit den genauen Infos zum Ablauf des Tages. \n  \n\n\nZur Festivalseelsorge:\n\n\n\nDort wo viele Menschen unter dem Einfluss von Musik\, Hitze und Alkohol sich begegnen\, kommen manchmal Dinge hoch\, die im Alltag eher verdrängt werden. In solchen Situationen stehen die Festivalseelsorger*innen für Gespräche bereit. \nNeben der Beteiligung/ Trägerschaft von Awareness-Teams und Maßnahmen bietet die Festivalseelsorge Rückzugsmöglichkeiten für Einzelgespräche oder einfach als Ort der Erholung vom Festivalgeschehen. \n\nTermine 2026\n12./ 13. Juni: Ract in Tübingen \n26./ 27. Juni: Kesselfestival in Stuttgart \n10-12. Juli: WE ARE THE FUTURE Festival in Waiblingen \n24.-27. Juli: Haigern live bei Heilbronn
URL:https://wirdwas.fyi/event/qualifikation-festivalseelsorge/
LOCATION:Jugendreferat Stuttgart\, Landhausstr. 64\, Stuttgart
CATEGORIES:Workshop
ATTACH;FMTTYPE=image/png:https://wirdwas.fyi/wp-content/uploads/2026/03/Post-1-4.png
END:VEVENT
BEGIN:VEVENT
DTSTART;TZID=Europe/Berlin:20260425T103000
DTEND;TZID=Europe/Berlin:20260425T153000
DTSTAMP:20260424T130403
CREATED:20260226T135518Z
LAST-MODIFIED:20260226T135518Z
UID:5744-1777113000-1777131000@wirdwas.fyi
SUMMARY:Welcome Home
DESCRIPTION:Gelassen von zuhause ausziehen \nManche sehnen ihn herbei\, andere haben eher gemischte Gefühle:\nEin Auszug in die ersten eigenen vier Wände ist immer mit vielen Fragen und neuen Aufgaben verbunden. Welche Wohnform passt am besten zu mir? Was kommt finanziell auf mich zu? Wie gehe ich mit Vermietern und Nachbarinnen um? In lockerer Atmosphäre tauschen wir uns gegenseitig aus\, um von gegenseitigen Erfahrungen aller und der Tipps der Referentinnen zu profitieren. \nIn der Mittagspause kreieren wir gemeinsam ein einfaches schnelles Mittagessen mit Dessert\, bevor am Nachmittag noch Zeit für persönliche Fragen und Anliegen ist. So können alle das Projekt „Auszug“ mit Freude und Zuversicht angehen! \n  \nReferentin:\nEileen Purnama\, Bauforscherin\, akademische\nMitarbeiterin\, erfahren in drei Wohnformen\n(Single\, WG\, Partnerschaft)\nChristine Scholder\, Bildungsreferentin \nInfos:\n10 \,00 € (Kurs\, Mittagessen\, Getränke und kleine Überraschung)\nAnmeldung bis 15. April\nhttp://www.keb-esslingen.de/
URL:https://wirdwas.fyi/event/welcome-home/
LOCATION:Esslingen\, Salemer Pfleghof
CATEGORIES:Workshop
ATTACH;FMTTYPE=image/jpeg:https://wirdwas.fyi/wp-content/uploads/2026/02/kadarius-seegars-Umzug.jpg
ORGANIZER;CN="JIN %E2%80%93 jung%2C innovativ%2C nah %E2%80%93 eine Initiative der katholischen Erwachsenenbildung Esslingen in Kooperation mit der Profilstelle Glauben%3ALeben des Dekanats Esslingen-N%C3%BCrtingen":MAILTO:info@keb-esslingen.de
END:VEVENT
BEGIN:VEVENT
DTSTART;VALUE=DATE:20260430
DTEND;VALUE=DATE:20260504
DTSTAMP:20260424T130403
CREATED:20260312T125940Z
LAST-MODIFIED:20260320T105735Z
UID:5764-1777507200-1777852799@wirdwas.fyi
SUMMARY:Soultrip Salzburg 2026
DESCRIPTION:Raus aus dem Alltag\, rein in eine besondere Zeit für dich! Vom 30.04. bis 03.05.2026 machen wir uns gemeinsam auf den Weg nach Salzburg\, um Glauben zu entdecken und echte Gemeinschaft zu erleben. \nWas dich erwartet: \n\nEntdecke das historische Salzburg: Von Domführungen bis hin zu exklusiven Einblicken in das klösterliche Leben.\nSpirituelle Impulse: Wir verbinden Pilgern\, Gebet und Musik mit Momenten der Stille und ehrlichen Gesprächen.\nNatur pur: Erlebe die einzigartige Atmosphäre zwischen Bergen und Stadt\, die Herz und Seele berührt.\nGemeinschaft: Begegne spannenden Menschen und finde neue Perspektiven.\n\nDie Fakten auf einen Blick: \n\nWer: Junge Erwachsene ab 16 Jahren.\nPreis: 240\,– Euro (inklusive Fahrt im Kleinbus ab Wangen\, Unterkunft mit Frühstück und allen Eintrittspreisen).\nBegleitung: Georg Wößner und Konrad Krämer.\n\nMelde dich jetzt an! Alle weiteren Infos und das Anmeldeformular findest du unter: my.camps.digital
URL:https://wirdwas.fyi/event/soultrip-salzburg-2026/
LOCATION:Salzburg
CATEGORIES:Ausflug/Reise
ATTACH;FMTTYPE=image/jpeg:https://wirdwas.fyi/wp-content/uploads/2026/03/Salzburg.jpeg
END:VEVENT
BEGIN:VEVENT
DTSTART;TZID=Europe/Berlin:20260513T170000
DTEND;TZID=Europe/Berlin:20260515T140000
DTSTAMP:20260424T130403
CREATED:20251216T090157Z
LAST-MODIFIED:20251216T090712Z
UID:5508-1778691600-1778853600@wirdwas.fyi
SUMMARY:Workshop Gebet (Mai)
DESCRIPTION:Workshop „Gebet“\n(3-teilig: Feb.\, Mai\, Nov. ) \n06.02. – 08.02.2026;\n13.05. – 15.05.2026;\n06.11. – 08.11.2026 \nGebet gehört zum christlichen Leben dazu – aber wie geht das? An drei Wochenenden lernst du verschiedene christliche Gebetsformen kennen und kannst ausprobieren\, was zu dir passt – ehrlich\, alltagsnah und mitten im Leben. \nEs ist möglich\, an einzelnen Wochenenden teilzunehmen. \n  \nKosten: 69\,– € je Wochenende inkl. Kursgebühr \nLeitung: Kloster auf Zeit-Team \nTeilnehmende: 18 – 40 Jahre \nAnmeldeschluss: 24.01.2026 \nAnmeldung: kloster-auf-Zeit@klostersiessen.de
URL:https://wirdwas.fyi/event/workshop-gebet-mai/
LOCATION:Kloster Siessen\, Kloster Sießen 3\, Bad Saulgau\, 88348
CATEGORIES:Retreat
END:VEVENT
BEGIN:VEVENT
DTSTART;VALUE=DATE:20260601
DTEND;VALUE=DATE:20260608
DTSTAMP:20260424T130403
CREATED:20260226T132919Z
LAST-MODIFIED:20260226T132919Z
UID:5732-1780272000-1780876799@wirdwas.fyi
SUMMARY:Taizé-Fahrt (Zabergäu)
DESCRIPTION:Taizé-Fahrt vom 1.-7. Juni 2026 \nAlle Infos und Anmeldung: https://www.kath-kirche-zabergaeu.de/taizefahrt-vom-1-bis-7-juni/  \n  \nInfos zu Taizé: \nTaizé ist ein kleiner\, aber weltweit bekannter Ort in Burgund/Frankreich. Dort gründete Frère Roger 1940 die ökumenische Gemeinschaft der Brüder von Taizé. Diese engagieren sich für Versöhnung und Frieden über Völker- und Religionsgrenzen hinweg. \nJugendliche und Junge Erwachsene aus ganz Europa und aus aller Welt reisen zu den wöchentlich stattfindenden Jugendtreffen nach Taizé. Sie erleben ein einfaches Zusammenleben in einer offenen und vielfältigen Gemeinschaft. Drei Mal am Tag treffen sich alle in der Kirche zum Gebet\, die durch die typischen Taizé-Gesänge geprägt sind. Daneben ist viel Zeit zum Austausch\, Kennenlernen und für Gemeinschaft. \nDie Woche in Taizé bietet Zeit für dich und deine Fragen des Lebens und deines Glaubens.
URL:https://wirdwas.fyi/event/taize-fahrt-zabergaeu/
LOCATION:Taizé
CATEGORIES:Ausflug/Reise
ATTACH;FMTTYPE=image/jpeg:https://wirdwas.fyi/wp-content/uploads/2026/02/2026-06_Taize_Anmeldung_Quer-ohne-QR.jpg
END:VEVENT
BEGIN:VEVENT
DTSTART;TZID=Europe/Berlin:20260605T170000
DTEND;TZID=Europe/Berlin:20260607T140000
DTSTAMP:20260424T130403
CREATED:20260226T133945Z
LAST-MODIFIED:20260226T134016Z
UID:5737-1780678800-1780840800@wirdwas.fyi
SUMMARY:Selbstfürsorge als Empowerment - für Queers & Allies
DESCRIPTION:Du bist queer oder Ally und zwischen 18 und ca. 35 Jahre alt? Du spürst das Bedürfnis\, Dich zu vernetzen\, zu wehren\, zu handeln? Vielleicht bist Du sogar schon queeraktivistisch engagiert? Oder du brauchst einfach mal eine Auszeit\, einen Moment des Aufatmens unter Gleichgesinnten? Dann bist Du bei diesem Seminar richtig. \nIn einer Zeit\, in der queere Menschen vermehrt zur Zielscheibe politischer Hetze werden\, möchten wir einen Raum schaffen\, der schützt\, stärkt und verbindet. Gemeinsam wollen wir erarbeiten\, wie wir individuell und kollektiv mit den aktuellen politischen Geschehnissen und queerfeindlichen Erfahrungen umgehen können. Was hilft uns\, widerständig zu bleiben? Was gibt uns Kraft? Lass uns Unterstützung in der Gruppe finden\, gemeinsam etwas bewirken und unsere Queerness feiern und zeigen! \nWir arbeiten an diesem Wochenende mithilfe von (Selbst-)Reflexion und Austausch und auch mit Methoden aus der Politischen Bildungsarbeit. Es wird ein Mix aus kreativen und körperorientierten Methoden und Gespräch angeboten\, in Einzel-\, Klein- und Großgruppenarbeit. Neben inhaltlichen Impulsen bieten wir auch Übungen zur Stressreduktion und Selbstfürsorge an – für den Moment\, in dem’s zu viel wird. Für alle angebotenen Methoden und Übungen gilt stets das Prinzip der Freiwilligkeit. \nSchwerpunkte des Wochenendes:\n– Umgang mit Queerfeindlichkeit in politisch aufgeladenen Zeiten\n– Empowerment und Resilienz\n– Vernetzung mit anderen jungen Queers & Allies\n– Solidarität leben in gesellschaftlichen (und potentiell kirchlichen) Kontexten\n– Queeraktivismus kennenlernen und vertiefen \n  \nMehr Infos und Anmeldung: www.junge-erwachsene.org/queer-wochenende
URL:https://wirdwas.fyi/event/queeres-wochenende/
LOCATION:Bildungshaus Neckarelz\, Mosbach\, Martin-Luther-Str. 14\, Mosbach\, 74821
CATEGORIES:Ausflug/Reise
ATTACH;FMTTYPE=image/png:https://wirdwas.fyi/wp-content/uploads/2026/02/queerScreenshot-2026-02-26-143239.png
END:VEVENT
BEGIN:VEVENT
DTSTART;TZID=Europe/Berlin:20260606T140000
DTEND;TZID=Europe/Berlin:20260606T153000
DTSTAMP:20260424T130403
CREATED:20251216T084159Z
LAST-MODIFIED:20251216T084159Z
UID:5501-1780754400-1780759800@wirdwas.fyi
SUMMARY:Christfluencer – Zwischen Safer Spaces und Jesus-Glow
DESCRIPTION:Christfluencer – Zwischen Safer Spaces und Jesus-Glow \nChristfluencer sind zu einem festen Bestandteil moderner Glaubenskommunikation auf Social Media geworden. Die Bandbreite an vermittelten Glaubensinhalten und Botschaften ist groß. Zwischen dem Bemühen Safer Spaces in einer Digitalen Kirche zu schaffen und dem Jesus-Glow-Trend ist alles zu finden. \nDie Veranstaltung soll zur Einordnung der verschiedenen Strömungen auf Social Media dienen. \nKosten: 9\,– € \nLeitung: Sr. Sophia Gisa \nAnmeldschluss: 1. Juni \nAnmeldung: jugendhaus@klostersiessen.de
URL:https://wirdwas.fyi/event/christfluencer-1/
LOCATION:Online
CATEGORIES:Online,Workshop
END:VEVENT
BEGIN:VEVENT
DTSTART;VALUE=DATE:20260731
DTEND;VALUE=DATE:20260803
DTSTAMP:20260424T130403
CREATED:20260209T111212Z
LAST-MODIFIED:20260209T111212Z
UID:5711-1785456000-1785715199@wirdwas.fyi
SUMMARY:Cycle and Soul
DESCRIPTION:Was wir vorhaben:\nEin spirituelles Wochenende: Fahrradtouren am wunderschönen Bodensee treffen auf Gemeinschaft\, Natur und Glaubenserfahrung. \n  \nGood to know:\nÜbernachtungsort: Claudi’s Radl Stadl\, Kressbronn \nMax. 16 Teilnehmende \nTeilnahme mit Fahrrad oder E-Bike möglich\nGrundlevel an Fitness ausreichend \nKosten: 65€ bis 90€ (je nach Zimmerkategorie)\ninkl. Kurtaxe\, Frühstück und Fährtickets. \n  \nWer dabei ist:\nMatthias Fahrner (Summer Spirit Bodensee) -> Bei Fragen Mail schreiben!\nKonrad Krämer (Jugendseelsorger Friedrichshafen) \n  \nWeitere Infos und Anmeldung:\nhttps://www.communicare.social/web/forms/shared/-/form/50636436 \nFlyer: Flyer_cycle \nAnmeldeschluss: 17. Juli 2026
URL:https://wirdwas.fyi/event/cycle-and-soul/
LOCATION:Bodensee
CATEGORIES:Ausflug/Reise
ATTACH;FMTTYPE=image/png:https://wirdwas.fyi/wp-content/uploads/2026/02/cycle-and-soul.png
END:VEVENT
BEGIN:VEVENT
DTSTART;VALUE=DATE:20260822
DTEND;VALUE=DATE:20260830
DTSTAMP:20260424T130403
CREATED:20251216T083509Z
LAST-MODIFIED:20251216T083509Z
UID:5497-1787356800-1788047999@wirdwas.fyi
SUMMARY:Pilgerwoche nach Sießen
DESCRIPTION:Pilgerwoche nach Sießen – durchs Donautal mit Impulsen des Berufungscoachings WaVe \nLos geht’s im Donautal zu Fuß mit Rucksack\, Schlafsack\, Isomatte und etwas mehr… \nWir wollen 5 Tage bis nach Sießen pilgern (15–20 km pro Tag)\, begleitet von Gebetszeiten\, Impulsen und Elementen des Berufungscoaching WaVe®\, umso tiefer unserem persönlichen Auftrag und Sinn im Leben nachzuspüren und Gemeinschaft zu erleben. \nWir übernachten meist einfach in Gemeindehäusern. \nVon Donnerstag bis Samstag lassen wir uns Zeit\, um in Sießen unsere Erfahrungen nachwirken zu lassen. \n\nLeitung:\nSr. Ina Franziska Rademacher\nSr. Luzia Zähringer\njugendhaus@klostersiessen.de \nKosten:\n346€ \nAlter der Teilnehmenden:\n18-40 Jahre \nAnmeldeschluss:\n1. Juli 2026\nhttps://www.klostersiessen.de/junge-erwachsene/
URL:https://wirdwas.fyi/event/pilgerwoche-nach-siessen/
CATEGORIES:Ausflug/Reise,Retreat
ATTACH;FMTTYPE=image/jpeg:https://wirdwas.fyi/wp-content/uploads/2025/12/Pilgerwoche2026-1.jpg
END:VEVENT
BEGIN:VEVENT
DTSTART;TZID=Europe/Berlin:20260912T140000
DTEND;TZID=Europe/Berlin:20260912T153000
DTSTAMP:20260424T130403
CREATED:20251216T084600Z
LAST-MODIFIED:20251216T084600Z
UID:5503-1789221600-1789227000@wirdwas.fyi
SUMMARY:Christfluencer – Zwischen Safer Spaces und Jesus-Glow
DESCRIPTION:Christfluencer – Zwischen Safer Spaces und Jesus-Glow \nChristfluencer sind zu einem festen Bestandteil moderner Glaubenskommunikation auf Social Media geworden. Die Bandbreite an vermittelten Glaubensinhalten und Botschaften ist groß. Zwischen dem Bemühen Safer Spaces in einer Digitalen Kirche zu schaffen und dem Jesus-Glow-Trend ist alles zu finden. \nDie Veranstaltung soll zur Einordnung der verschiedenen Strömungen auf Social Media dienen. \nKosten: 9\,– € \nLeitung: Sr. Sophia Gisa \nAnmeldschluss: 6. September \nAnmeldung: jugendhaus@klostersiessen.de
URL:https://wirdwas.fyi/event/christfluencer-2/
LOCATION:Online
CATEGORIES:Online,Workshop
END:VEVENT
BEGIN:VEVENT
DTSTART;TZID=Europe/Berlin:20260920T100000
DTEND;TZID=Europe/Berlin:20260921T140000
DTSTAMP:20260424T130403
CREATED:20251218T090707Z
LAST-MODIFIED:20251218T090707Z
UID:5525-1789898400-1789999200@wirdwas.fyi
SUMMARY:Roadtrip Borden & Bouldern
DESCRIPTION:Mit den Gründergeist-Roadtrips wirst du Teil einer Lernreise zu innovativen Orten und Menschen\, die zeigen: Kirche kann anders. Kirche kann neu. Vom 20. – 21. September 2026 entdecken wir zwei besondere Orte: die christliche Gemeinde in Metzingen mit ihrer Verbindung von Spiritualität und Kletterhalle – H³ – und die Genezareth Boards am Brombachsee bei Gunzenhausen\, wo SUP-Boarden\, Gemeinschaft und Glaube zusammenfinden. \nAlle Infos hier! \n  \n 
URL:https://wirdwas.fyi/event/roadtrip-borden-bouldern/
CATEGORIES:Roadtrip
ATTACH;FMTTYPE=image/jpeg:https://wirdwas.fyi/wp-content/uploads/2025/12/roadtrips-header-bouldern-und-paddeln-1-.jpg
END:VEVENT
BEGIN:VEVENT
DTSTART;TZID=Europe/Berlin:20261106T170000
DTEND;TZID=Europe/Berlin:20261108T140000
DTSTAMP:20260424T130403
CREATED:20251216T090616Z
LAST-MODIFIED:20251216T090616Z
UID:5510-1793984400-1794146400@wirdwas.fyi
SUMMARY:Workshop Gebet (November)
DESCRIPTION:Workshop „Gebet“\n(3-teilig: Feb.\, Mai\, Nov. ) \n06.02. – 08.02.2026;\n13.05. – 15.05.2026;\n06.11. – 08.11.2026 \nGebet gehört zum christlichen Leben dazu – aber wie geht das? An drei Wochenenden lernst du verschiedene christliche Gebetsformen kennen und kannst ausprobieren\, was zu dir passt – ehrlich\, alltagsnah und mitten im Leben. \nEs ist möglich\, an einzelnen Wochenenden teilzunehmen. \n  \nKosten: 69\,– € je Wochenende inkl. Kursgebühr \nLeitung: Kloster auf Zeit-Team \nTeilnehmende: 18 – 40 Jahre \nAnmeldeschluss: 24.01.2026 \nAnmeldung: kloster-auf-Zeit@klostersiessen.de
URL:https://wirdwas.fyi/event/workshop-gebet-november/
LOCATION:Kloster Siessen\, Kloster Sießen 3\, Bad Saulgau\, 88348
CATEGORIES:Retreat
END:VEVENT
BEGIN:VEVENT
DTSTART;TZID=Europe/Berlin:20261106T180000
DTEND;TZID=Europe/Berlin:20261108T130000
DTSTAMP:20260424T130403
CREATED:20260202T100506Z
LAST-MODIFIED:20260226T131939Z
UID:5695-1793988000-1794142800@wirdwas.fyi
SUMMARY:Wege aus dem Stress – Herbstruhe und Wohlbefinden durch Achtsamkeit
DESCRIPTION:Inhalt\nDer Herbst lädt ein zur Innenschau und erinnert uns daran das Tempo zu entschleunigen\, um Kräfte zu sammeln. In unserem Alltag kann dieser Ausgleich schnell zu kurz kommen\, sodass immer wieder Belastungsgrenzen erreicht werden. Wir alle brauchen Phasen\, in denen wir Abstand zum anspruchsvollen Alltag bekommen. Darum nehmen wir uns an diesem Wochenende Zeit für Momente der Geborgenheit\, für Mitgefühl sowie Freundlichkeit mit uns selbst und anderen\, regulieren das Nervensystem und stimmen uns somit auf mehr Balance für die Winterzeit ein. Wir erleben einen sanften Weg\, um immer wieder aus dem Grübelkarussell und den To do – Listen aufzuwachen und den gegenwärtigen Moment zu erleben. Inmitten der Stille des Schönenbergs finden wir einen passenden Rahmen für Momente der Achtsamkeit. \nDie Methoden basieren auf MBSR – Mindfulness-Based Stress Reduction\, ein fundiertes Übungsprogramm zur Stressbewältigung durch Achtsamkeit\, welches seit 50 Jahren wissenschaftlich begleitet wird und sich nachweislich auf das physische sowie psychische Wohlbefinden auswirkt und einen respektvolleren Umgang mit der Welt fördert. \nGemeinsam erleben wir: \n\nAchtsamkeitsmeditationen – Momente bewusst wahrnehmen\nSanfte Bewegungsübungen – für Entspannung und Selbstfürsorge\nEntspannungsphasen – Kraft schöpfen und den Geist beruhigen\nWege aus dem Stress – Handlungsmuster perspektivisch verändert\nReflexionen – Verständnis für die eigene Gedanken und Gefühle\nGenuss-Spaziergang – frische Luft für Atempausen und gute Aussichten\n\n  \nLeitung\nCatharina Guth \nzertifizierte MBSR-Lehrerin\, lebt in Leipzig und begleitet seit vielen Jahren Menschen auf dem Weg zu einer achtsameren Lebensgestaltung \nweitere Infos unter www.catharinaguth.de \n  \nInfos und Anmeldung\nTagungshaus Schönenberg\, Ellwangen (Jagst) \nEZ/VP: 170\,00€; DZ/VP: 145\,00€; Kursgebühr: 120\,00€\n(Sonderkonditionen für ü35 Jahre.) \nAnmeldung: https://veranstaltungen.dekanat-ostalb.de/wege-aus-dem-stress-herbstruhe-und-wohlbefinden-durch-achtsamkeit/
URL:https://wirdwas.fyi/event/wege-aus-dem-stress/
LOCATION:Tagungshaus Schönenberg\, Schönenberg 40\, Ellwangen\, 73479
CATEGORIES:Retreat
END:VEVENT
END:VCALENDAR