BEGIN:VCALENDAR
VERSION:2.0
PRODID:-//wirdwas.fyi - ECPv6.15.20//NONSGML v1.0//EN
CALSCALE:GREGORIAN
METHOD:PUBLISH
X-ORIGINAL-URL:https://wirdwas.fyi
X-WR-CALDESC:Veranstaltungen für wirdwas.fyi
REFRESH-INTERVAL;VALUE=DURATION:PT1H
X-Robots-Tag:noindex
X-PUBLISHED-TTL:PT1H
BEGIN:VTIMEZONE
TZID:Europe/Berlin
BEGIN:DAYLIGHT
TZOFFSETFROM:+0100
TZOFFSETTO:+0200
TZNAME:CEST
DTSTART:20250330T010000
END:DAYLIGHT
BEGIN:STANDARD
TZOFFSETFROM:+0200
TZOFFSETTO:+0100
TZNAME:CET
DTSTART:20251026T010000
END:STANDARD
BEGIN:DAYLIGHT
TZOFFSETFROM:+0100
TZOFFSETTO:+0200
TZNAME:CEST
DTSTART:20260329T010000
END:DAYLIGHT
BEGIN:STANDARD
TZOFFSETFROM:+0200
TZOFFSETTO:+0100
TZNAME:CET
DTSTART:20261025T010000
END:STANDARD
BEGIN:DAYLIGHT
TZOFFSETFROM:+0100
TZOFFSETTO:+0200
TZNAME:CEST
DTSTART:20270328T010000
END:DAYLIGHT
BEGIN:STANDARD
TZOFFSETFROM:+0200
TZOFFSETTO:+0100
TZNAME:CET
DTSTART:20271031T010000
END:STANDARD
END:VTIMEZONE
BEGIN:VEVENT
DTSTART;TZID=Europe/Berlin:20260127T083000
DTEND;TZID=Europe/Berlin:20260127T173000
DTSTAMP:20260424T173831
CREATED:20251124T135532Z
LAST-MODIFIED:20251124T135532Z
UID:5382-1769502600-1769535000@wirdwas.fyi
SUMMARY:Cowork & Pray
DESCRIPTION:Für Studierende\, Promovierende\, Arbeitende\n \nWir treffen uns um 8.30 Uhr und beginnen mit einem Morgengebet\, das uns in den Tag führt. \nIn den gemeinsamen Arbeitsphasen hat jede*r Raum\, in Gemeinschaft den eigenen Projekten und Aufgaben nachzugehen. Zur Mittagszeit halten wir bei einem kurzen Impuls inne und essen anschließend gemeinsam. Die nachmittägliche Arbeitseinheit endet gegen 17.30 Uhr mit einem Gebet\, das den Arbeitstag ausklingen lässt. \nWann? 18.12.2025 und 27.1.2026 \nWo? Gemeindezentrum St. Johannes\, Bachgasse 5 \nKontakt: Nicolas Conrads\, cowork-pray@posteo.de
URL:https://wirdwas.fyi/event/cowork-pray-2/
LOCATION:St. Johannes Tübingen\, Bachgasse 5\, Tübingen
CATEGORIES:Gruppentreffen
ATTACH;FMTTYPE=image/jpeg:https://wirdwas.fyi/wp-content/uploads/2025/11/CoworkAndPray-1.jpeg
END:VEVENT
END:VCALENDAR