BEGIN:VCALENDAR
VERSION:2.0
PRODID:-//wirdwas.fyi - ECPv6.15.20//NONSGML v1.0//EN
CALSCALE:GREGORIAN
METHOD:PUBLISH
X-WR-CALNAME:wirdwas.fyi
X-ORIGINAL-URL:https://wirdwas.fyi
X-WR-CALDESC:Veranstaltungen für wirdwas.fyi
REFRESH-INTERVAL;VALUE=DURATION:PT1H
X-Robots-Tag:noindex
X-PUBLISHED-TTL:PT1H
BEGIN:VTIMEZONE
TZID:Europe/Berlin
BEGIN:DAYLIGHT
TZOFFSETFROM:+0100
TZOFFSETTO:+0200
TZNAME:CEST
DTSTART:20250330T010000
END:DAYLIGHT
BEGIN:STANDARD
TZOFFSETFROM:+0200
TZOFFSETTO:+0100
TZNAME:CET
DTSTART:20251026T010000
END:STANDARD
BEGIN:DAYLIGHT
TZOFFSETFROM:+0100
TZOFFSETTO:+0200
TZNAME:CEST
DTSTART:20260329T010000
END:DAYLIGHT
BEGIN:STANDARD
TZOFFSETFROM:+0200
TZOFFSETTO:+0100
TZNAME:CET
DTSTART:20261025T010000
END:STANDARD
BEGIN:DAYLIGHT
TZOFFSETFROM:+0100
TZOFFSETTO:+0200
TZNAME:CEST
DTSTART:20270328T010000
END:DAYLIGHT
BEGIN:STANDARD
TZOFFSETFROM:+0200
TZOFFSETTO:+0100
TZNAME:CET
DTSTART:20271031T010000
END:STANDARD
END:VTIMEZONE
BEGIN:VEVENT
DTSTART;VALUE=DATE:20260207
DTEND;VALUE=DATE:20260209
DTSTAMP:20260424T144455
CREATED:20251216T091309Z
LAST-MODIFIED:20251216T091309Z
UID:5513-1770422400-1770595199@wirdwas.fyi
SUMMARY:Hüttenwochenende im Allgäu
DESCRIPTION:Hüttenwochenende für junge Erwachsene im Allgäu! \n… mit Rodeln\, Impulsen und Spielen für junge Erwachsene und Studis \n\nTeilnehmerbeitrag:\n40 Euro Studis\, Azubis & Co.\n60 Euro Vollverdiener \nDer Preis enthällt Fahrtkosten\, Rodelbahnkosten\, Übernachtung und Essen für Samstagabend und Sonntag. Sollte der Teilnehmerbeitrag zu hoch sein\, bitte melde dich beim Orga-Team vom ÖZ (Ökumenischen Zentrum Stuttgart) und jetzt.gemeinschaft (ehrenamtliche Gruppe junger Erwachsener Stuttgart). \n  \nVerbindliche Anmeldung bis 07. Januar 2026 hier.
URL:https://wirdwas.fyi/event/huettenwochenende-im-allgaeu/
LOCATION:Sonthofen im Allgäu
CATEGORIES:Ausflug/Reise
ATTACH;FMTTYPE=image/jpeg:https://wirdwas.fyi/wp-content/uploads/2025/12/Huettenwochenende.jpeg
END:VEVENT
END:VCALENDAR