BEGIN:VCALENDAR
VERSION:2.0
PRODID:-//wirdwas.fyi - ECPv6.15.20//NONSGML v1.0//EN
CALSCALE:GREGORIAN
METHOD:PUBLISH
X-ORIGINAL-URL:https://wirdwas.fyi
X-WR-CALDESC:Veranstaltungen für wirdwas.fyi
REFRESH-INTERVAL;VALUE=DURATION:PT1H
X-Robots-Tag:noindex
X-PUBLISHED-TTL:PT1H
BEGIN:VTIMEZONE
TZID:Europe/Berlin
BEGIN:DAYLIGHT
TZOFFSETFROM:+0100
TZOFFSETTO:+0200
TZNAME:CEST
DTSTART:20240331T010000
END:DAYLIGHT
BEGIN:STANDARD
TZOFFSETFROM:+0200
TZOFFSETTO:+0100
TZNAME:CET
DTSTART:20241027T010000
END:STANDARD
BEGIN:DAYLIGHT
TZOFFSETFROM:+0100
TZOFFSETTO:+0200
TZNAME:CEST
DTSTART:20250330T010000
END:DAYLIGHT
BEGIN:STANDARD
TZOFFSETFROM:+0200
TZOFFSETTO:+0100
TZNAME:CET
DTSTART:20251026T010000
END:STANDARD
BEGIN:DAYLIGHT
TZOFFSETFROM:+0100
TZOFFSETTO:+0200
TZNAME:CEST
DTSTART:20260329T010000
END:DAYLIGHT
BEGIN:STANDARD
TZOFFSETFROM:+0200
TZOFFSETTO:+0100
TZNAME:CET
DTSTART:20261025T010000
END:STANDARD
END:VTIMEZONE
BEGIN:VEVENT
DTSTART;TZID=Europe/Berlin:20250912T173000
DTEND;TZID=Europe/Berlin:20250914T163000
DTSTAMP:20260424T130257
CREATED:20250602T115213Z
LAST-MODIFIED:20250909T142939Z
UID:4842-1757698200-1757867400@wirdwas.fyi
SUMMARY:Weggefährt*innen
DESCRIPTION:Als Paar unterwegs zu sein bedeutet\, miteinander durch Berg und Tal zu gehen. Dieses Bild vom Wandern macht das Abenteuer eines gemeinsamen Weges bewusst – herausfordernde und einfache Wegstücke kommen darin vor. Wir geben die Möglichkeit\, sich im gemeinsamen Wandern auszutauschen und mit Themen der Paarbeziehung wie z.B. Kommunikation auseinanderzusetzen. Dabei wird es Impulse unterwegs und in unserer Unterkunft geben. Als Paar oder in Kleingruppen können Sie diskutieren\, Leben und Glauben teilen – als Weggefährt*innen.\n\nFür Paare\, die kirchlich heiraten möchten\, bieten wir entsprechende Inhalte an.\nDas Seminar wird im Schwarzwald mit Übernachtung in Doppelzimmern im Haus Feldberg-Falkau angeboten.\nWir werden bis zu sechs Stunden am Tag draußen unterwegs sein. Eine entsprechende Kondition setzen wir voraus. Die Veranstaltung findet bei jedem Wetter statt.\n\n\nDie Weggefährt*innen ist eine Kooperationsveranstaltung mit dem Erzbistum Freiburg.\n\n\n\nAnmeldung\nHier geht’s zur Anmeldung.\n\n\n\n\nRückfragen\nweggefaehrten@aussichtsreich.net\n\n\n\n\nKosten\n310-380€ pro Paar (je nach eigenem Ermessen)\, inkl. Übernachtung\, Verpflegung und Kursgebühr\n\nReduzierte Preise:\n168 € Wohngeldberechtigte\n140 € Studierende\n84 € Empfänger*innen von ALG II\n\n\n\n\nKursleitung\nOlivia Auer (Sozialpädagogin)\nThomas Auer (Sozialpädagoge\, Organisationsentwickler)
URL:https://wirdwas.fyi/event/weggefaehrtinnen/
ATTACH;FMTTYPE=image/png:https://wirdwas.fyi/wp-content/uploads/2025/06/weggefaehrtinnen.png
END:VEVENT
END:VCALENDAR